Workbook

Sheet Combined BCTS -Residual-FNWL
A1: BCTS -FNWL Prorated Volumes by Reserve Weighting
A2: FNWL Dft | B2: Yeild Estimate | C2: FN Allocation | D2: BCTS Reseve | E2: %
A3: Chawathil | B3: ='FNWL '!D22 -> 18720.891 | C3: 13890 | D3: =B3-C3 -> 4830.8912 | E3: =D3/B3 -> 0.25804814 | G3: BCTS Combined Opportunity
A4: Douglas | B4: Not Applicable | C4: 6406 | D4: 0 | E4: 0 | G4: =H16 -> 16699910 | H4: m3
A5: Katzie Kwant. | B5: ='FNWL '!D36 -> 24336.745 | C5: 18333 | D5: 5000 | E5: =D5/B5 -> 0.20545065 | G5: BCTS Core Allocation for TSA
A6: Stsailes | B6: ='FNWL '!D50 -> 71046.696 | C6: 27728 | D6: =B6-C6 -> 43318.696 | E6: =D6/B6 -> 0.60972147 | G6: Years of AAC | H6: 246745
A7: Tselxwey | B7: 79481 | C7: 40250 | D7: =B7-C7 -> 39231 | E7: =D7/B7 -> 0.49358966 | G7: =G4/H6 -> 67.680845 | H7: YEARS of AAC
A8: Yale | B8: Not Applicable | C8: 4180 | D8: 0 | E8: 0
A9: Total M3/yr | B9: =SUM(B3:B8) -> 193585.33 | D9: =SUM(D3:D8) -> 92380.587 | E9: =D9/B9 -> 0.47720861 | G9: Assumption: That BCTS reservation volume would have equal opportunity to all volume criteria
A11: Oct.31, 2016 Map Version | C11: First Nation Woodland Proposal - BCTS portion of THLB Volume | H11: BCTS PROFILE | J11: RESIDUAL TSA | K11: Benchmark TSA 2015
A12: Economic Vol | B12: Residual TSA | C12: Chaw FNWL | D12: KK FNWL | E12: Stail FNWL | F12: Tselxwey | H12: Combined Vol | I12: % | J12: % | K12: TSA Volume | L12: %
A13: Good | B13: ='BCTS Residual TSA'!C8 -> 4181689.7 | C13: 0 | D13: =E5*'FNWL '!C29 -> 383133.37 | E13: =E6*'FNWL '!C43 -> 2254189 | F13: =E7*'FNWL '!C57 -> 2671079.1 | H13: =SUM(B13:F13) -> 9490091.2 | I13: =H13/H16 -> 0.56827199 | J13: 0.52 | K13: 44091969 | L13: =K13/$K$16 -> 0.57497529
A14: Moderate | B14: ='BCTS Residual TSA'!C12 -> 5317978 | C14: =E3*'FNWL '!C21 -> 316027.35 | D14: 0 | E14: =E6*'FNWL '!C49 -> 0 | F14: =E7*'FNWL '!C63 -> 1169.8289 | H14: =SUM(B14:F14) -> 5635175.1 | I14: =H14/H16 -> 0.33743745 | J14: 0.32 | K14: 20933916 | L14: =K14/$K$16 -> 0.27298587
A15: Poor | B15: ='BCTS Residual TSA'!C16 -> 1574643.8 | C15: 0 | D15: 0 | E15: 0 | F15: 0 | H15: =SUM(B15:F15) -> 1574643.8 | I15: =H15/H16 -> 0.094290556 | J15: 0.16 | K15: 11659096 | L15: =K15/$K$16 -> 0.15203885
A16: Total | B16: =SUM(B13:B15) -> 11074311 | C16: =SUM(C13:C15) -> 316027.35 | D16: =SUM(D13:D15) -> 383133.37 | E16: =SUM(E13:E15) -> 2254189 | F16: =SUM(F13:F15) -> 2672248.9 | G16: =SUM(B16:F16) -> 16699910 | H16: =SUM(H13:H15) -> 16699910 | I16: =SUM(I13:I15) -> 1 | J16: =SUM(J13:J15) -> 1 | K16: =SUM(K13:K15) -> 76684981 | L16: =SUM(L13:L15) -> 1
A17: check | B17: ='BCTS Residual TSA'!C17 -> 11074311 | C17: =E3*'FNWL '!C22 -> 316027.35 | D17: =E5*'FNWL '!C36 -> 383133.37 | E17: =E6*'FNWL '!C50 -> 2254189 | F17: =E7*'FNWL '!C64 -> 2672248.9 | G17: Check | H17: =SUM(B17:F17) -> 16699910
A19: Slope Vol | H19: SLOPE CLASS COMPARISON
A20: 0-30 | B20: ='BCTS Residual TSA'!N17 -> 2493123.7 | C20: =E3*'FNWL '!N22 -> 88860.235 | D20: =E5*'FNWL '!N36 -> 171517.74 | E20: =E6*'FNWL '!N50 -> 591447.71 | F20: =E7*'FNWL '!N64 -> 381036.26 | H20: =SUM(B20:F20) -> 3725985.7 | I20: =H20/$H$23 -> 0.22311412 | J20: 0.18 | K20: 15694779 | L20: =K20/$K$23 -> 0.20466562
A21: 31-70 | B21: ='BCTS Residual TSA'!Y17 -> 6426447.6 | C21: =E3*'FNWL '!Y22 -> 166836.72 | D21: =E5*'FNWL '!Y36 -> 125567.24 | E21: =E6*'FNWL '!Y50 -> 1448346.4 | F21: =E7*'FNWL '!Y64 -> 1606276.8 | H21: =SUM(B21:F21) -> 9773474.8 | I21: =H21/$H$23 -> 0.58524116 | J21: 0.64 | K21: 47792430 | L21: =K21/$K$23 -> 0.62323064
A22: 71+ | B22: ='BCTS Residual TSA'!AJ17 -> 2154740.2 | C22: =E3*'FNWL '!AJ22 -> 60330.4 | D22: =E5*'FNWL '!AJ36 -> 86048.392 | E22: =E6*'FNWL '!AJ50 -> 214394.89 | F22: =E7*'FNWL '!AJ64 -> 684935.79 | H22: =SUM(B22:F22) -> 3200449.6 | I22: =H22/$H$23 -> 0.19164472 | J22: 0.18 | K22: 13197772 | L22: =K22/$K$23 -> 0.17210374
A23: Check | B23: =SUM(B20:B22) -> 11074311 | C23: =SUM(C20:C22) -> 316027.35 | D23: =SUM(D20:D22) -> 383133.37 | E23: =SUM(E20:E22) -> 2254189 | F23: =SUM(F20:F22) -> 2672248.9 | H23: =SUM(H20:H22) -> 16699910 | I23: =SUM(I20:I22) -> 1 | J23: =SUM(J20:J22) -> 1 | K23: =SUM(K20:K22) -> 76684981 | L23: =SUM(L20:L22) -> 1
A25: Age Class | H25: AGE CLASS COMPARISION
A26: 0-140 | B26: ='BCTS Residual TSA'!C6+'BCTS Residual TSA'!C10+'BCTS Residual TSA'!C14 -> 6411793.8 | C26: =E3*('FNWL '!C17+'FNWL '!C18+'FNWL '!C19) -> 179189.82 | D26: =E5*('FNWL '!C25+'FNWL '!C26+'FNWL '!C27) -> 333351.61 | E26: =E6*('FNWL '!C39+'FNWL '!C40+'FNWL '!C41) -> 1972799 | F26: =E7*('FNWL '!C53+'FNWL '!C54+'FNWL '!C55+'FNWL '!C59+'FNWL '!C60+'FNWL '!C61) -> 2019766.1 | H26: =SUM(B26:F26) -> 10916900 | I26: =H26/$H$23 -> 0.65371012 | J26: 0.5 | K26: 42233039 | L26: =K26/K28 -> 0.55073417
A27: >141 | B27: ='BCTS Residual TSA'!C7+'BCTS Residual TSA'!C11+'BCTS Residual TSA'!C15 -> 4662517.7 | C27: =E3*'FNWL '!C20 -> 136837.53 | D27: =E5*'FNWL '!C28 -> 49781.757 | E27: =E6*('FNWL '!C42) -> 281390.07 | F27: =E7*('FNWL '!C56+'FNWL '!C62) -> 652482.8 | H27: =SUM(B27:F27) -> 5783009.9 | I27: =H27/$H$23 -> 0.34628988 | J27: 0.5 | K27: 34451942 | L27: =K27/K28 -> 0.44926583
A28: Check | B28: =SUM(B26:B27) -> 11074311 | C28: =SUM(C26:C27) -> 316027.35 | D28: =SUM(D26:D27) -> 383133.37 | E28: =SUM(E26:E27) -> 2254189 | F28: =SUM(F26:F27) -> 2672248.9 | H28: =SUM(B28:F28) -> 16699910 | I28: =H28/$H$23 -> 1 | J28: =SUM(J26:J27) -> 1 | K28: =SUM(K26:K27) -> 76684981 | L28: =SUM(L26:L27) -> 1
A30: Species | B30: Residual TSA | C30: % species | D30: Combined FNWL | F30: % species | H30: SPECIES COMPARISON
A31: Fir | B31: =$B$16*C31 -> 2657834.8 | C31: 0.24 | E31: ='FNWL '!B69 -> 4011371.4 | F31: 0.32878705 | H31: =B31+E31 -> 6669206.1 | I31: =H31/$H$39 -> 0.2865416 | J31: 0.25 | K31: 20627461 | L31: =K31/$K$39 -> 0.26898958
A32: Ce | B32: =$B$16*C32 -> 775201.8 | C32: 0.07 | E32: ='FNWL '!B70 -> 907540.51 | F32: 0.074385425 | H32: =B32+E32 -> 1682742.3 | I32: =H32/$H$39 -> 0.072298812 | J32: 0.07 | K32: 5306245 | L32: =K32/$K$39 -> 0.069195361
A33: Hem | B33: =$B$16*C33 -> 3433036.6 | C33: 0.31 | E33: ='FNWL '!B71 -> 3940844.9 | F33: 0.32300644 | H33: =B33+E33 -> 7373881.5 | I33: =H33/$H$39 -> 0.31681789 | J33: 0.32 | K33: 24371321 | L33: =K33/$K$39 -> 0.31781087
A34: Bal | B34: =$B$16*C34 -> 2879321 | C34: 0.26 | E34: ='FNWL '!B72 -> 1936871.3 | F34: 0.15875324 | H34: =B34+E34 -> 4816192.3 | I34: =H34/$H$39 -> 0.20692709 | J34: 0.26 | K34: 17741255 | L34: =K34/$K$39 -> 0.2313524
A35: Pine | B35: =$B$16*C35 -> 110743.11 | C35: 0.01 | E35: ='FNWL '!B73 -> 41293.011 | F35: 0.0033845301 | H35: =B35+E35 -> 152036.13 | I35: =H35/$H$39 -> 0.006532213 | J35: 0.01 | K35: 838427 | L35: =K35/$K$39 -> 0.010933392
A36: Spru | B36: =$B$16*C36 -> 110743.11 | C36: 0.01 | E36: ='FNWL '!B74 -> 23739.999 | F36: 0.0019458194 | H36: =B36+E36 -> 134483.11 | I36: =H36/$H$39 -> 0.0057780501 | J36: 0.01 | K36: 1309277 | L36: =K36/$K$39 -> 0.017073447
A37: Cyp | B37: =$B$16*C37 -> 110743.11 | C37: 0.01 | E37: ='FNWL '!B75 -> 124342.89 | F37: 0.010191609 | H37: =B37+E37 -> 235086 | I37: =H37/$H$39 -> 0.01010044 | J37: 0.02 | K37: 1091019 | L37: =K37/$K$39 -> 0.014227284
A38: Dec | B38: =$B$16*C38 -> 996688.03 | C38: 0.09 | E38: ='FNWL '!B76 -> 1214511.2 | F38: 0.099545895 | H38: =B38+E38 -> 2211199.2 | I38: =H38/$H$39 -> 0.095003897 | J38: 0.06 | K38: 5399977 | L38: =K38/$K$39 -> 0.07041766
A39: Check | B39: =SUM(B31:B38) -> 11074311 | C39: =SUM(C31:C38) -> 1 | E39: =SUM(E31:E38) -> 12200515 | F39: Total of all FNWLs with BCTS Res | H39: =SUM(H31:H38) -> 23274827 | I39: Check | J39: =SUM(J31:J38) -> 1 | K39: =SUM(K31:K38) -> 76684982 | L39: =SUM(L31:L38) -> 1

Sheet BCTS Residual TSA
A1: August 1, 2017 Licensee - Economic Zones | B1: Total THLB Area (ha) | C1: Total THLB Vol (m3) | D1: Total Annual Yield (m3/yr) | E1: Slope 0-30 % | P1: Slope 31-69 % | AA1: > 69%
E2: Slope THLB Area (ha) | F2: THLB Volume (m3) | N2: Slope THLB Volume m3 | O2: Annual Yield m3/yr | P2: Slope THLB Area (ha) | Q2: THLB Volume (m3) | Y2: Slope THLB Volume | Z2: Annual Yield m3/yr | AA2: Slope THLB Area (ha) | AB2: THLB Volume (m3) | AJ2: Slope THLB Volume | AK2: Annual Yield m3/yr
E3: Area (ha) | F3: FIR | G3: CEDAR | H3: HEMLOCK | I3: BALSAM | J3: PINE | K3: SPRUCE | L3: CYPRESS | M3: DECIDUOUS | N3: CFLB Volume (m3) | Q3: FIR | R3: CEDAR | S3: HEMLOCK | T3: BALSAM | U3: PINE | V3: SPRUCE | W3: CYPRESS | X3: DECIDUOUS | Y3: THLB_RVTOT | AB3: FIR | AC3: CEDAR | AD3: HEMLOCK | AE3: BALSAM | AF3: PINE | AG3: SPRUCE | AH3: CYPRESS | AI3: DECIDUOUS | AJ3: Sum of THLB_RVTOT
A4: B.C. Timber Sales
A5: Good
A6: 41-140 Years | B6: 7911.5633 | C6: 3149457.5 | D6: 35732.436 | E6: 2321.3252 | F6: 246043.01 | G6: 64491.815 | H6: 393725.42 | I6: 115093.03 | J6: 4366.9239 | K6: 1857.9794 | L6: 533.43271 | M6: 357092.71 | N6: 1183204.3 | O6: 10286.5 | P6: 4386.7435 | Q6: 607768.25 | R6: 99332.422 | S6: 319510.54 | T6: 108205.65 | U6: 5777.0782 | V6: 2774.4974 | W6: 5389.9372 | X6: 402831.22 | Y6: 1551589.6 | Z6: 19767.207 | AA6: 1203.4946 | AB6: 188336.14 | AC6: 26822.531 | AD6: 91074.217 | AE6: 24656.526 | AF6: 419.46875 | AG6: 278.20094 | AH6: 1391.4045 | AI6: 81685.054 | AJ6: 414663.55 | AK6: 5678.7288
A7: 141+ Years | B7: 1694.5795 | C7: 1032232.2 | D7: 6967.5334 | E7: 299.96901 | F7: 37299.042 | G7: 19324.533 | H7: 72549.87 | I7: 54310.581 | J7: 1598.8625 | K7: 0 | L7: 5158.6377 | M7: 1535.299 | N7: 191776.83 | O7: 1202.0199 | P7: 845.8014 | Q7: 91287.819 | R7: 94694.015 | S7: 184323.86 | T7: 110471.18 | U7: 326.36987 | V7: 0 | W7: 12826.164 | X7: 2764.8587 | Y7: 496694.26 | Z7: 3455.1512 | AA7: 548.80911 | AB7: 55040.248 | AC7: 91029.227 | AD7: 120498.87 | AE7: 68703.89 | AF7: 37.616538 | AG7: 0 | AH7: 7619.115 | AI7: 832.19019 | AJ7: 343761.16 | AK7: 2310.3623
A8: Good Total | B8: 9606.1428 | C8: 4181689.7 | D8: 42699.969 | E8: 2621.2942 | F8: 283342.05 | G8: 83816.348 | H8: 466275.29 | I8: 169403.61 | J8: 5965.7864 | K8: 1857.9794 | L8: 5692.0704 | M8: 358628.01 | N8: 1374981.2 | O8: 11488.52 | P8: 5232.5449 | Q8: 699056.07 | R8: 194026.44 | S8: 503834.39 | T8: 218676.83 | U8: 6103.4481 | V8: 2774.4974 | W8: 18216.101 | X8: 405596.07 | Y8: 2048283.8 | Z8: 23222.358 | AA8: 1752.3037 | AB8: 243376.39 | AC8: 117851.76 | AD8: 211573.09 | AE8: 93360.416 | AF8: 457.08529 | AG8: 278.20094 | AH8: 9010.5195 | AI8: 82517.244 | AJ8: 758424.71 | AK8: 7989.0911
A9: Medium
A10: 41-140 Years | B10: 8446.1395 | C10: 2637130.6 | D10: 34221.156 | E10: 1321.9845 | F10: 61461.873 | G10: 14652.691 | H10: 118601.56 | I10: 163199.89 | J10: 0.95326347 | K10: 2711.8034 | L10: 712.47205 | M10: 32111.983 | N10: 393453.23 | O10: 5217.0151 | P10: 5788.7365 | Q10: 396305.86 | R10: 78298.575 | S10: 558148.73 | T10: 581328.07 | U10: 25.801652 | V10: 7607.1678 | W10: 1481.6232 | X10: 160772.87 | Y10: 1783968.7 | Z10: 23502.773 | AA10: 1335.4185 | AB10: 165913.23 | AC10: 28368.409 | AD10: 161912.27 | AE10: 76101.318 | AF10: 93.246832 | AG10: 62.002967 | AH10: 376.32511 | AI10: 26881.869 | AJ10: 459708.67 | AK10: 5501.3673
A11: 141+ Years | B11: 3980.9403 | C11: 2680847.3 | D11: 15127.344 | E11: 278.38279 | F11: 17239.851 | G11: 5869.4873 | H11: 82230.334 | I11: 75338.048 | J11: 222.87318 | K11: 1201.3422 | L11: 1165.3938 | M11: 229.27702 | N11: 183496.61 | O11: 1051.6227 | P11: 2405.6929 | Q11: 112954.93 | R11: 54697.188 | S11: 643264.34 | T11: 781952.85 | U11: 147.10653 | V11: 3357.6371 | W11: 13230.66 | X11: 594.6428 | Y11: 1610199.4 | Z11: 9123.1152 | AA11: 1296.8646 | AB11: 87690.424 | AC11: 60652.815 | AD11: 408086.45 | AE11: 323911.28 | AF11: 0 | AG11: 473.42404 | AH11: 5385.3787 | AI11: 951.61753 | AJ11: 887151.39 | AK11: 4952.6059
A12: Medium Total | B12: 12427.08 | C12: 5317978 | D12: 49348.499 | E12: 1600.3673 | F12: 78701.723 | G12: 20522.178 | H12: 200831.9 | I12: 238537.94 | J12: 223.82644 | K12: 3913.1455 | L12: 1877.8659 | M12: 32341.26 | N12: 576949.83 | O12: 6268.6378 | P12: 8194.4294 | Q12: 509260.79 | R12: 132995.76 | S12: 1201413.1 | T12: 1363280.9 | U12: 172.90818 | V12: 10964.805 | W12: 14712.283 | X12: 161367.52 | Y12: 3394168.1 | Z12: 32625.888 | AA12: 2632.2831 | AB12: 253603.65 | AC12: 89021.223 | AD12: 569998.72 | AE12: 400012.6 | AF12: 93.246832 | AG12: 535.42701 | AH12: 5761.7038 | AI12: 27833.486 | AJ12: 1346860.1 | AK12: 10453.973
A13: Poor
A14: 41-140 Years | B14: 1509.644 | C14: 625205.69 | D14: 6154.6513 | E14: 621.76228 | F14: 248865.86 | G14: 24541.024 | H14: 18341.228 | I14: 13758.07 | J14: 9113.517 | K14: 1299.9791 | L14: 0 | M14: 12282.159 | N14: 328201.83 | O14: 2732.0793 | P14: 839.06752 | Q14: 186088.25 | R14: 17129.853 | S14: 9977.5831 | T14: 33888.931 | U14: 16802.542 | V14: 596.83569 | W14: 8.9410227 | X14: 20960.757 | Y14: 285453.69 | Z14: 3264.5557 | AA14: 48.81418 | AB14: 5099.0521 | AC14: 214.93174 | AD14: 1356.8667 | AE14: 3549.4243 | AF14: 1010.3748 | AG14: 139.18376 | AH14: 2.7290372 | AI14: 177.61061 | AJ14: 11550.173 | AK14: 158.01626
A15: 141+ Years | B15: 1749.1439 | C15: 949438.12 | D15: 4801.765 | E15: 359.43716 | F15: 23583.982 | G15: 13365.586 | H15: 52784.017 | I15: 88897.989 | J15: 3206.9644 | K15: 30017.764 | L15: 1129.401 | M15: 5.2146847 | N15: 212990.92 | O15: 1013.7198 | P15: 1303.6523 | Q15: 123429.48 | R15: 29903.469 | S15: 214355.91 | T15: 213324.96 | U15: 17301.637 | V15: 87848.54 | W15: 12107.336 | X15: 270.63338 | Y15: 698541.96 | Z15: 3565.2528 | AA15: 86.054394 | AB15: 5684.8319 | AC15: 784.41561 | AD15: 9911.2813 | AE15: 16438.262 | AF15: 497.01357 | AG15: 4007.312 | AH15: 582.12259 | AI15: 0 | AJ15: 37905.239 | AK15: 222.79243
A16: Poor Total | B16: 3258.7878 | C16: 1574643.8 | D16: 10956.416 | E16: 981.19944 | F16: 272449.84 | G16: 37906.61 | H16: 71125.245 | I16: 102656.06 | J16: 12320.481 | K16: 31317.743 | L16: 1129.401 | M16: 12287.374 | N16: 541192.75 | O16: 3745.7992 | P16: 2142.7198 | Q16: 309517.73 | R16: 47033.322 | S16: 224333.49 | T16: 247213.89 | U16: 34104.178 | V16: 88445.375 | W16: 12116.277 | X16: 21231.39 | Y16: 983995.65 | Z16: 6829.8085 | AA16: 134.86857 | AB16: 10783.884 | AC16: 999.34734 | AD16: 11268.148 | AE16: 19987.686 | AF16: 1507.3884 | AG16: 4146.4958 | AH16: 584.85163 | AI16: 177.61061 | AJ16: 49455.412 | AK16: 380.80869
A17: B.C. Timber Sales Total | B17: 25292.01 | C17: 11074311 | D17: 103004.88 | E17: 5202.8609 | F17: 634493.62 | G17: 142245.14 | H17: 738232.43 | I17: 510597.61 | J17: 18510.094 | K17: 37088.868 | L17: 8699.3374 | M17: 403256.65 | N17: 2493123.7 | O17: 21502.957 | P17: 15569.694 | Q17: 1517834.6 | R17: 374055.52 | S17: 1929581 | T17: 1829171.6 | U17: 40380.535 | V17: 102184.68 | W17: 45044.661 | X17: 588194.98 | Y17: 6426447.6 | Z17: 62678.055 | AA17: 4519.4554 | AB17: 507763.93 | AC17: 207872.33 | AD17: 792839.96 | AE17: 513360.7 | AF17: 2057.7205 | AG17: 4960.1237 | AH17: 15357.075 | AI17: 110528.34 | AJ17: 2154740.2 | AK17: 18823.873

Sheet FNWL 
A1: Timber Harvesting Land Base (THLB): Based on Fraser TSA TSR 4 Timber Supply Analysis using a compilation of the best available information.
A2: Version 3 - First Nation Woodland Licence Analysis Forest Cover Data Sources:
A3: Vegetation Resource Inventory: Attributes projected to 2016
A4: Change Detection Mapping: Denudation current to April 2017 using RESULTS forest_cover_inv_svw dataset and Landsat imagery
A6: August 1, 2017 FNWL - Economic Zones | B6: Total THLB Area (ha) | C6: Total THLB Vol (m3) | D6: Total Annual Yield (m3/yr) | E6: Slope 0-30 % | P6: Slope 31-69 % | AA6: > 69%
E7: Slope THLB Area (ha) | F7: THLB Volume (m3) | N7: Slope THLB Volume m3 | O7: Annual Yield m3/yr | P7: Slope THLB Area (ha) | Q7: THLB Volume (m3) | Y7: Slope THLB Volume | Z7: Annual Yield m3/yr | AA7: Slope THLB Area (ha) | AB7: THLB Volume (m3) | AJ7: Slope THLB Volume | AK7: Annual Yield m3/yr
E8: CFLB Area (ha) | F8: FIR | G8: CEDAR | H8: HEMLOCK | I8: BALSAM | J8: PINE | K8: SPRUCE | L8: CYPRESS | M8: DECIDUOUS | N8: CFLB Volume (m3) | P8: THLBAREA | Q8: FIR | R8: CEDAR | S8: HEMLOCK | T8: BALSAM | U8: PINE | V8: SPRUCE | W8: CYPRESS | X8: DECIDUOUS | Y8: THLB_RVTOT | AA8: Sum of THLBAREA | AB8: FIR | AC8: CEDAR | AD8: HEMLOCK | AE8: BALSAM | AF8: PINE | AG8: SPRUCE | AH8: CYPRESS | AI8: DECIDUOUS | AJ8: Sum of THLB_RVTOT
A9: Chawathil First Nation
A10: Good
A11: 0-40 Years | B11: 0 | C11: 0 | D11: 0 | E11: 0 | F11: 0 | G11: 0 | H11: 0 | I11: 0 | J11: 0 | K11: 0 | L11: 0 | M11: 0 | N11: 0 | O11: 0 | P11: 0 | Q11: 0 | R11: 0 | S11: 0 | T11: 0 | U11: 0 | V11: 0 | W11: 0 | X11: 0 | Y11: 0 | Z11: 0 | AA11: 0 | AB11: 0 | AC11: 0 | AD11: 0 | AE11: 0 | AF11: 0 | AG11: 0 | AH11: 0 | AI11: 0 | AJ11: 0 | AK11: 0
A12: 41-80 Years | B12: 0 | C12: 0 | D12: 0 | E12: 0 | F12: 0 | G12: 0 | H12: 0 | I12: 0 | J12: 0 | K12: 0 | L12: 0 | M12: 0 | N12: 0 | O12: 0 | P12: 0 | Q12: 0 | R12: 0 | S12: 0 | T12: 0 | U12: 0 | V12: 0 | W12: 0 | X12: 0 | Y12: 0 | Z12: 0 | AA12: 0 | AB12: 0 | AC12: 0 | AD12: 0 | AE12: 0 | AF12: 0 | AG12: 0 | AH12: 0 | AI12: 0 | AJ12: 0 | AK12: 0
A13: 81-140 Years | B13: 0 | C13: 0 | D13: 0 | E13: 0 | F13: 0 | G13: 0 | H13: 0 | I13: 0 | J13: 0 | K13: 0 | L13: 0 | M13: 0 | N13: 0 | O13: 0 | P13: 0 | Q13: 0 | R13: 0 | S13: 0 | T13: 0 | U13: 0 | V13: 0 | W13: 0 | X13: 0 | Y13: 0 | Z13: 0 | AA13: 0 | AB13: 0 | AC13: 0 | AD13: 0 | AE13: 0 | AF13: 0 | AG13: 0 | AH13: 0 | AI13: 0 | AJ13: 0 | AK13: 0
A14: 141+ | B14: 0 | C14: 0 | D14: 0 | E14: 0 | F14: 0 | G14: 0 | H14: 0 | I14: 0 | J14: 0 | K14: 0 | L14: 0 | M14: 0 | N14: 0 | O14: 0 | P14: 0 | Q14: 0 | R14: 0 | S14: 0 | T14: 0 | U14: 0 | V14: 0 | W14: 0 | X14: 0 | Y14: 0 | Z14: 0 | AA14: 0 | AB14: 0 | AC14: 0 | AD14: 0 | AE14: 0 | AF14: 0 | AG14: 0 | AH14: 0 | AI14: 0 | AJ14: 0 | AK14: 0
A15: Good Total | B15: 0 | C15: 0 | D15: 0 | E15: 0 | F15: 0 | G15: 0 | H15: 0 | I15: 0 | J15: 0 | K15: 0 | L15: 0 | M15: 0 | N15: 0 | O15: 0 | P15: 0 | Q15: 0 | R15: 0 | S15: 0 | T15: 0 | U15: 0 | V15: 0 | W15: 0 | X15: 0 | Y15: 0 | Z15: 0 | AA15: 0 | AB15: 0 | AC15: 0 | AD15: 0 | AE15: 0 | AF15: 0 | AG15: 0 | AH15: 0 | AI15: 0 | AJ15: 0 | AK15: 0
A16: Medium
A17: 0-40 Years | B17: 2269.4818 | C17: 42166.776 | D17: 8549.6037 | E17: 720.66898 | F17: 4622.1484 | G17: 662.48356 | H17: 1677.619 | I17: 7217.7243 | J17: 177.19935 | K17: 2277.2286 | L17: 0.92991402 | M17: 1482.4153 | N17: 18117.748 | O17: 2755.3742 | P17: 1408.1349 | Q17: 3553.9969 | R17: 458.31017 | S17: 3705.2999 | T17: 11441.94 | U17: 7.9405134 | V17: 2931.9242 | W17: 3.6228018 | X17: 278.63556 | Y17: 22381.669 | Z17: 5261.8202 | AA17: 140.67791 | AB17: 481.88666 | AC17: 120.35044 | AD17: 435.48957 | AE17: 556.14856 | AF17: 14.986228 | AG17: 22.3 | AH17: 0 | AI17: 36.196765 | AJ17: 1667.3582 | AK17: 532.40931
A18: 41-80 Years | B18: 1271.2687 | C18: 403470.21 | D18: 4947.7599 | E18: 401.5023 | F18: 53778.781 | G18: 10511.508 | H18: 37106.179 | I18: 15643.882 | J18: 6.1633021 | K18: 253.27876 | L18: 0 | M18: 47537.419 | N18: 164837.21 | O18: 1657.2035 | P18: 721.80793 | Q18: 66053.856 | R18: 9971.8602 | S18: 21756.8 | T18: 12110.754 | U18: 2394.397 | V18: 840.86943 | W18: 0 | X18: 90308.546 | Y18: 203437.08 | Z18: 2721.376 | AA18: 147.95843 | AB18: 17986.145 | AC18: 1659.154 | AD18: 7418.3023 | AE18: 2014.1093 | AF18: 1073.6803 | AG18: 6.9055371 | AH18: 0 | AI18: 5037.6153 | AJ18: 35195.912 | AK18: 569.18044
A19: 81-140 Years | B19: 512.02663 | C19: 248767.65 | D19: 1954.426 | E19: 104.20843 | F19: 23938.662 | G19: 6626.2356 | H19: 9282.759 | I19: 1835.0499 | J19: 1921.8106 | K19: 0 | L19: 0 | M19: 7079.9758 | N19: 50684.493 | O19: 408.42178 | P19: 279.08762 | Q19: 50061.277 | R19: 4852.3395 | S19: 39622.468 | T19: 18809.854 | U19: 2869.9764 | V19: 155.58376 | W19: 0 | X19: 11741.406 | Y19: 128112.91 | Z19: 1053.7829 | AA19: 128.73058 | AB19: 20251.155 | AC19: 1938.3886 | AD19: 30938.943 | AE19: 15696.398 | AF19: 913.8235 | AG19: 0 | AH19: 0 | AI19: 231.54356 | AJ19: 69970.252 | AK19: 492.22132
A20: 141+ | B20: 884.92716 | C20: 530279.08 | D20: 3269.1016 | E20: 171.30287 | F20: 9460.4278 | G20: 17792.949 | H20: 28769.063 | I20: 39167.636 | J20: 0 | K20: 1057.9353 | L20: 0 | M20: 14467.8 | N20: 110715.81 | O20: 633.69445 | P20: 498.30365 | Q20: 8939.5478 | R20: 20615.052 | S20: 120909.59 | T20: 136686 | U20: 0 | V20: 3059.4157 | W20: 0 | X20: 2392.0413 | Y20: 292601.65 | Z20: 1846.641 | AA20: 215.32064 | AB20: 10583.621 | AC20: 7332.9609 | AD20: 59175.991 | AE20: 47888.394 | AF20: 0.81870709 | AG20: 1910.0693 | AH20: 0 | AI20: 69.757364 | AJ20: 126961.61 | AK20: 788.76611
A21: Medium Total | B21: 4937.7043 | C21: 1224683.7 | D21: 18720.891 | E21: 1397.6826 | F21: 91800.02 | G21: 35593.175 | H21: 76835.619 | I21: 63864.293 | J21: 2105.1733 | K21: 3588.4426 | L21: 0.92991402 | M21: 70567.61 | N21: 344355.26 | O21: 5454.6939 | P21: 2907.3341 | Q21: 128608.68 | R21: 35897.562 | S21: 185994.16 | T21: 179048.55 | U21: 5272.3138 | V21: 6987.793 | W21: 3.6228018 | X21: 104720.63 | Y21: 646533.31 | Z21: 10883.62 | AA21: 632.68757 | AB21: 49302.808 | AC21: 11050.854 | AD21: 97968.726 | AE21: 66155.05 | AF21: 2003.3088 | AG21: 1939.2748 | AH21: 0 | AI21: 5375.113 | AJ21: 233795.13 | AK21: 2382.5772
A22: Chawathil First Nation Total | B22: 4937.7043 | C22: 1224683.7 | D22: 18720.891 | E22: 1397.6826 | F22: 91800.02 | G22: 35593.175 | H22: 76835.619 | I22: 63864.293 | J22: 2105.1733 | K22: 3588.4426 | L22: 0.92991402 | M22: 70567.61 | N22: 344355.26 | O22: 5454.6939 | P22: 2907.3341 | Q22: 128608.68 | R22: 35897.562 | S22: 185994.16 | T22: 179048.55 | U22: 5272.3138 | V22: 6987.793 | W22: 3.6228018 | X22: 104720.63 | Y22: 646533.31 | Z22: 10883.62 | AA22: 632.68757 | AB22: 49302.808 | AC22: 11050.854 | AD22: 97968.726 | AE22: 66155.05 | AF22: 2003.3088 | AG22: 1939.2748 | AH22: 0 | AI22: 5375.113 | AJ22: 233795.13 | AK22: 2382.5772
A23: Katzie - Kwantlen First Nation
A24: Good
A25: 0-40 Years | B25: 1050.4168 | C25: 64482.566 | D25: 5304.0091 | E25: 507.25495 | F25: 580.5943 | G25: 641.71187 | H25: 8868.971 | I25: 6550.9666 | J25: 0 | K25: 0 | L25: 4680.9187 | M25: 170.59109 | N25: 21493.754 | O25: 2680.8631 | P25: 395.11811 | Q25: 4953.7648 | R25: 1872.0086 | S25: 9765.6804 | T25: 10014.832 | U25: 0 | V25: 0 | W25: 2707.7235 | X25: 747.10965 | Y25: 30061.119 | Z25: 1918.2867 | AA25: 148.0437 | AB25: 3821.4555 | AC25: 1870.7129 | AD25: 4973.297 | AE25: 1542.641 | AF25: 0 | AG25: 0 | AH25: 275.36416 | AI25: 444.22303 | AJ25: 12927.694 | AK25: 704.85927
A26: 41-80 Years | B26: 1911.7221 | C26: 847525.34 | D26: 11016.764 | E26: 869.44774 | F26: 78712.248 | G26: 65960.834 | H26: 236846.71 | I26: 21354.103 | J26: 0 | K26: 0 | L26: 13047.877 | M26: 17228.268 | N26: 433150.04 | O26: 5631.2002 | P26: 536.77065 | Q26: 43967.83 | R26: 41737.218 | S26: 115659.47 | T26: 12377.207 | U26: 0 | V26: 0 | W26: 3256.0711 | X26: 20016.594 | Y26: 237014.39 | Z26: 2799.5083 | AA26: 505.50366 | AB26: 43633.793 | AC26: 32478.856 | AD26: 90455.425 | AE26: 3298.6054 | AF26: 0 | AG26: 0 | AH26: 113.59509 | AI26: 7380.638 | AJ26: 177360.91 | AK26: 2586.0559
A27: 81-140 Years | B27: 1006.7367 | C27: 710530.75 | D27: 5872.152 | E27: 340.7385 | F27: 62167.733 | G27: 57090.538 | H27: 124912.68 | I27: 6115.7355 | J27: 2.847491 | K27: 0 | L27: 239.37917 | M27: 9516.2814 | N27: 260045.2 | O27: 2121.1384 | P27: 426.77817 | Q27: 64349.12 | R27: 66293.445 | S27: 151283.01 | T27: 2013.4507 | U27: 75.841905 | V27: 0 | W27: 27.975252 | X27: 18271.903 | Y27: 302314.75 | Z27: 2361.2818 | AA27: 239.22001 | AB27: 38018.283 | AC27: 36348.784 | AD27: 68090.698 | AE27: 2215.9013 | AF27: 209.44933 | AG27: 0 | AH27: 118.27544 | AI27: 3169.4075 | AJ27: 148170.8 | AK27: 1389.7317
A28: 141+ | B28: 426.31105 | C28: 242305.19 | D28: 2143.8196 | E28: 254.99603 | F28: 235.47104 | G28: 3055.3021 | H28: 61753.624 | I28: 20790.06 | J28: 3.6071333 | K28: 0 | L28: 34100.209 | M28: 209.42505 | N28: 120147.7 | O28: 1336.964 | P28: 63.938289 | Q28: 6696.4466 | R28: 8380.8124 | S28: 15267.908 | T28: 5642.2922 | U28: 235.43299 | V28: 0 | W28: 5561.5951 | X28: 4.852218 | Y28: 41789.339 | Z28: 310.50031 | AA28: 107.37673 | AB28: 13145.075 | AC28: 19071.565 | AD28: 35756.453 | AE28: 11318.598 | AF28: 306.35836 | AG28: 0 | AH28: 770.10159 | AI28: 0 | AJ28: 80368.151 | AK28: 496.35537
A29: Good Total | B29: 4395.1865 | C29: 1864843.8 | D29: 24336.745 | E29: 1972.4372 | F29: 141696.05 | G29: 126748.39 | H29: 432381.99 | I29: 54810.866 | J29: 6.4546244 | K29: 0 | L29: 52068.383 | M29: 27124.566 | N29: 834836.69 | O29: 11770.166 | P29: 1422.6052 | Q29: 119967.16 | R29: 118283.48 | S29: 291976.07 | T29: 30047.782 | U29: 311.27489 | V29: 0 | W29: 11553.365 | X29: 39040.458 | Y29: 611179.6 | Z29: 7389.5772 | AA29: 1000.1441 | AB29: 98618.607 | AC29: 89769.917 | AD29: 199275.87 | AE29: 18375.746 | AF29: 515.80769 | AG29: 0 | AH29: 1277.3363 | AI29: 10994.269 | AJ29: 418827.56 | AK29: 5177.0023
A30: Medium
A31: 0-40 Years | B31: 0 | C31: 0 | D31: 0 | E31: 0 | F31: 0 | G31: 0 | H31: 0 | I31: 0 | J31: 0 | K31: 0 | L31: 0 | M31: 0 | N31: 0 | O31: 0 | P31: 0 | Q31: 0 | R31: 0 | S31: 0 | T31: 0 | U31: 0 | V31: 0 | W31: 0 | X31: 0 | Y31: 0 | Z31: 0 | AA31: 0 | AB31: 0 | AC31: 0 | AD31: 0 | AE31: 0 | AF31: 0 | AG31: 0 | AH31: 0 | AI31: 0 | AJ31: 0 | AK31: 0
A32: 41-80 Years | B32: 0 | C32: 0 | D32: 0 | E32: 0 | F32: 0 | G32: 0 | H32: 0 | I32: 0 | J32: 0 | K32: 0 | L32: 0 | M32: 0 | N32: 0 | O32: 0 | P32: 0 | Q32: 0 | R32: 0 | S32: 0 | T32: 0 | U32: 0 | V32: 0 | W32: 0 | X32: 0 | Y32: 0 | Z32: 0 | AA32: 0 | AB32: 0 | AC32: 0 | AD32: 0 | AE32: 0 | AF32: 0 | AG32: 0 | AH32: 0 | AI32: 0 | AJ32: 0 | AK32: 0
A33: 81-140 Years | B33: 0 | C33: 0 | D33: 0 | E33: 0 | F33: 0 | G33: 0 | H33: 0 | I33: 0 | J33: 0 | K33: 0 | L33: 0 | M33: 0 | N33: 0 | O33: 0 | P33: 0 | Q33: 0 | R33: 0 | S33: 0 | T33: 0 | U33: 0 | V33: 0 | W33: 0 | X33: 0 | Y33: 0 | Z33: 0 | AA33: 0 | AB33: 0 | AC33: 0 | AD33: 0 | AE33: 0 | AF33: 0 | AG33: 0 | AH33: 0 | AI33: 0 | AJ33: 0 | AK33: 0
A34: 141+ | B34: 0 | C34: 0 | D34: 0 | E34: 0 | F34: 0 | G34: 0 | H34: 0 | I34: 0 | J34: 0 | K34: 0 | L34: 0 | M34: 0 | N34: 0 | O34: 0 | P34: 0 | Q34: 0 | R34: 0 | S34: 0 | T34: 0 | U34: 0 | V34: 0 | W34: 0 | X34: 0 | Y34: 0 | Z34: 0 | AA34: 0 | AB34: 0 | AC34: 0 | AD34: 0 | AE34: 0 | AF34: 0 | AG34: 0 | AH34: 0 | AI34: 0 | AJ34: 0 | AK34: 0
A35: Medium Total | B35: 0 | C35: 0 | D35: 0 | E35: 0 | F35: 0 | G35: 0 | H35: 0 | I35: 0 | J35: 0 | K35: 0 | L35: 0 | M35: 0 | N35: 0 | O35: 0 | P35: 0 | Q35: 0 | R35: 0 | S35: 0 | T35: 0 | U35: 0 | V35: 0 | W35: 0 | X35: 0 | Y35: 0 | Z35: 0 | AA35: 0 | AB35: 0 | AC35: 0 | AD35: 0 | AE35: 0 | AF35: 0 | AG35: 0 | AH35: 0 | AI35: 0 | AJ35: 0 | AK35: 0
A36: Katzie - Kwantlen First Nation Total | B36: 4395.1865 | C36: 1864843.8 | D36: 24336.745 | E36: 1972.4372 | F36: 141696.05 | G36: 126748.39 | H36: 432381.99 | I36: 54810.866 | J36: 6.4546244 | K36: 0 | L36: 52068.383 | M36: 27124.566 | N36: 834836.69 | O36: 11770.166 | P36: 1422.6052 | Q36: 119967.16 | R36: 118283.48 | S36: 291976.07 | T36: 30047.782 | U36: 311.27489 | V36: 0 | W36: 11553.365 | X36: 39040.458 | Y36: 611179.6 | Z36: 7389.5772 | AA36: 1000.1441 | AB36: 98618.607 | AC36: 89769.917 | AD36: 199275.87 | AE36: 18375.746 | AF36: 515.80769 | AG36: 0 | AH36: 1277.3363 | AI36: 10994.269 | AJ36: 418827.56 | AK36: 5177.0023
A37: Sts'ailes
A38: Good
A39: 0-40 Years | B39: 4573.6399 | C39: 149970.89 | D39: 23339.008 | E39: 1883.754 | F39: 11000.845 | G39: 5240.1625 | H39: 27352.433 | I39: 11540.98 | J39: 102.88396 | K39: 0 | L39: 451.07331 | M39: 2685.4364 | N39: 58373.814 | O39: 9735.5239 | P39: 2489.5713 | Q39: 13128.377 | R39: 6756.6211 | S39: 38931.312 | T39: 20656.525 | U39: 0 | V39: 137.47737 | W39: 1930.0867 | X39: 3717.9218 | Y39: 85258.321 | Z39: 12658.26 | AA39: 200.31457 | AB39: 808.51673 | AC39: 606.43896 | AD39: 3204.2486 | AE39: 1478.1104 | AF39: 0 | AG39: 0 | AH39: 176.66742 | AI39: 64.768132 | AJ39: 6338.7502 | AK39: 945.22359
A40: 41-80 Years | B40: 6300.5266 | C40: 2067175.9 | D40: 32733.712 | E40: 1601.9647 | F40: 167264.54 | G40: 41573.983 | H40: 173932.36 | I40: 123368.69 | J40: 3626.3122 | K40: 0 | L40: 3858.4354 | M40: 62473.014 | N40: 576097.32 | O40: 8236.5436 | P40: 4279.5004 | Q40: 487268.81 | R40: 92179.19 | S40: 443265.16 | T40: 214847.9 | U40: 10103.517 | V40: 0 | W40: 11385.778 | X40: 127152.16 | Y40: 1386202.5 | Z40: 22365.64 | AA40: 419.06144 | AB40: 42919.509 | AC40: 5522.3865 | AD40: 35350.115 | AE40: 6828.286 | AF40: 777.94071 | AG40: 0 | AH40: 974.03871 | AI40: 12503.796 | AJ40: 104876.07 | AK40: 2131.5284
A41: 81-140 Years | B41: 2066.6304 | C41: 1018427.2 | D41: 10691.932 | E41: 562.072 | F41: 130447.6 | G41: 14963.482 | H41: 85841.754 | I41: 12007.079 | J41: 2285.0491 | K41: 0 | L41: 1211.2837 | M41: 24532.979 | N41: 271289.23 | O41: 2911.8379 | P41: 1222.1282 | Q41: 331746.44 | R41: 30201.394 | S41: 170878.73 | T41: 20870.552 | U41: 9313.0587 | V41: 0 | W41: 1506.3893 | X41: 42652.26 | Y41: 607168.83 | Z41: 6353.5258 | AA41: 282.43012 | AB41: 74216.208 | AC41: 12789.774 | AD41: 37956.89 | AE41: 3821.9871 | AF41: 1504.5232 | AG41: 0 | AH41: 1075.6389 | AI41: 8604.159 | AJ41: 139969.18 | AK41: 1426.5682
A42: 141+ | B42: 859.69513 | C42: 461505.92 | D42: 4282.0437 | E42: 104.67844 | F42: 14780.944 | G42: 5045.3017 | H42: 20973.375 | I42: 16847.474 | J42: 214.27571 | K42: 0 | L42: 5294.0014 | M42: 1113.5862 | N42: 64268.959 | O42: 536.14909 | P42: 561.9439 | Q42: 74190.888 | R42: 33748.551 | S42: 97514.755 | T42: 73651.032 | U42: 562.93843 | V42: 0 | W42: 14585.722 | X42: 2539.4946 | Y42: 296793.38 | Z42: 2815.7077 | AA42: 193.07279 | AB42: 14599.006 | AC42: 17348.506 | AD42: 44652.781 | AE42: 14559.464 | AF42: 0 | AG42: 0 | AH42: 9239.179 | AI42: 44.647215 | AJ42: 100443.58 | AK42: 930.1869
A43: Good Total | B43: 13800.492 | C43: 3697080 | D43: 71046.696 | E43: 4152.4691 | F43: 323493.93 | G43: 66822.929 | H43: 308099.92 | I43: 163764.22 | J43: 6228.521 | K43: 0 | L43: 10814.794 | M43: 90805.015 | N43: 970029.33 | O43: 21420.054 | P43: 8553.1439 | Q43: 906334.51 | R43: 162885.76 | S43: 750589.96 | T43: 330026.01 | U43: 19979.514 | V43: 137.47737 | W43: 29407.976 | X43: 176061.84 | Y43: 2375423 | Z43: 44193.134 | AA43: 1094.8789 | AB43: 132543.24 | AC43: 36267.106 | AD43: 121164.03 | AE43: 26687.848 | AF43: 2282.4639 | AG43: 0 | AH43: 11465.524 | AI43: 21217.371 | AJ43: 351627.59 | AK43: 5433.5071
A44: Medium
A45: 0-40 Years | B45: 0 | C45: 0 | D45: 0 | E45: 0 | F45: 0 | G45: 0 | H45: 0 | I45: 0 | J45: 0 | K45: 0 | L45: 0 | M45: 0 | N45: 0 | O45: 0 | P45: 0 | Q45: 0 | R45: 0 | S45: 0 | T45: 0 | U45: 0 | V45: 0 | W45: 0 | X45: 0 | Y45: 0 | Z45: 0 | AA45: 0 | AB45: 0 | AC45: 0 | AD45: 0 | AE45: 0 | AF45: 0 | AG45: 0 | AH45: 0 | AI45: 0 | AJ45: 0 | AK45: 0
A46: 41-80 Years | B46: 0 | C46: 0 | D46: 0 | E46: 0 | F46: 0 | G46: 0 | H46: 0 | I46: 0 | J46: 0 | K46: 0 | L46: 0 | M46: 0 | N46: 0 | O46: 0 | P46: 0 | Q46: 0 | R46: 0 | S46: 0 | T46: 0 | U46: 0 | V46: 0 | W46: 0 | X46: 0 | Y46: 0 | Z46: 0 | AA46: 0 | AB46: 0 | AC46: 0 | AD46: 0 | AE46: 0 | AF46: 0 | AG46: 0 | AH46: 0 | AI46: 0 | AJ46: 0 | AK46: 0
A47: 81-140 Years | B47: 0 | C47: 0 | D47: 0 | E47: 0 | F47: 0 | G47: 0 | H47: 0 | I47: 0 | J47: 0 | K47: 0 | L47: 0 | M47: 0 | N47: 0 | O47: 0 | P47: 0 | Q47: 0 | R47: 0 | S47: 0 | T47: 0 | U47: 0 | V47: 0 | W47: 0 | X47: 0 | Y47: 0 | Z47: 0 | AA47: 0 | AB47: 0 | AC47: 0 | AD47: 0 | AE47: 0 | AF47: 0 | AG47: 0 | AH47: 0 | AI47: 0 | AJ47: 0 | AK47: 0
A48: 141+ | B48: 0 | C48: 0 | D48: 0 | E48: 0 | F48: 0 | G48: 0 | H48: 0 | I48: 0 | J48: 0 | K48: 0 | L48: 0 | M48: 0 | N48: 0 | O48: 0 | P48: 0 | Q48: 0 | R48: 0 | S48: 0 | T48: 0 | U48: 0 | V48: 0 | W48: 0 | X48: 0 | Y48: 0 | Z48: 0 | AA48: 0 | AB48: 0 | AC48: 0 | AD48: 0 | AE48: 0 | AF48: 0 | AG48: 0 | AH48: 0 | AI48: 0 | AJ48: 0 | AK48: 0
A49: Medium Total | B49: 0 | C49: 0 | D49: 0 | E49: 0 | F49: 0 | G49: 0 | H49: 0 | I49: 0 | J49: 0 | K49: 0 | L49: 0 | M49: 0 | N49: 0 | O49: 0 | P49: 0 | Q49: 0 | R49: 0 | S49: 0 | T49: 0 | U49: 0 | V49: 0 | W49: 0 | X49: 0 | Y49: 0 | Z49: 0 | AA49: 0 | AB49: 0 | AC49: 0 | AD49: 0 | AE49: 0 | AF49: 0 | AG49: 0 | AH49: 0 | AI49: 0 | AJ49: 0 | AK49: 0
A50: Sts'ailes Total | B50: 13800.492 | C50: 3697080 | D50: 71046.696 | E50: 4152.4691 | F50: 323493.93 | G50: 66822.929 | H50: 308099.92 | I50: 163764.22 | J50: 6228.521 | K50: 0 | L50: 10814.794 | M50: 90805.015 | N50: 970029.33 | O50: 21420.054 | P50: 8553.1439 | Q50: 906334.51 | R50: 162885.76 | S50: 750589.96 | T50: 330026.01 | U50: 19979.514 | V50: 137.47737 | W50: 29407.976 | X50: 176061.84 | Y50: 2375423 | Z50: 44193.134 | AA50: 1094.8789 | AB50: 132543.24 | AC50: 36267.106 | AD50: 121164.03 | AE50: 26687.848 | AF50: 2282.4639 | AG50: 0 | AH50: 11465.524 | AI50: 21217.371 | AJ50: 351627.59 | AK50: 5433.5071
A51: Ts'elxweyeqw Forestry
A52: Good
A53: 0-40 Years | B53: 6899.1021 | C53: 242545.04 | D53: 28866.279 | E53: 1362.5308 | F53: 9813.2379 | G53: 2071.2466 | H53: 10126.416 | I53: 14478.151 | J53: 10.910207 | K53: 1782.7619 | L53: 133.41789 | M53: 10731.243 | N53: 49147.385 | O53: 6032.4222 | P53: 4787.1222 | Q53: 35320.371 | R53: 5985.6844 | S53: 55446.527 | T53: 59715.94 | U53: 48.633864 | V53: 6430.6404 | W53: 475.13587 | X53: 6602.5346 | Y53: 170025.47 | Z53: 19706.835 | AA53: 749.44907 | AB53: 6968.9616 | AC53: 1151.535 | AD53: 8174.4371 | AE53: 6797.2976 | AF53: 1.5175157 | AG53: 60.377181 | AH53: 3.1920149 | AI53: 214.86797 | AJ53: 23372.186 | AK53: 3127.022
A54: 41-80 Years | B54: 7962.8666 | C54: 3077757.4 | D54: 35595.926 | E54: 1185.7247 | F54: 252891.94 | G54: 11523.723 | H54: 57638.165 | I54: 20395.613 | J54: 0 | K54: 961.57922 | L54: 1088.6751 | M54: 161040.18 | N54: 505539.87 | O54: 5396.6396 | P54: 4969.1 | Q54: 776439.87 | R54: 56203.757 | S54: 478241.96 | T54: 219416.82 | U54: 763.64907 | V54: 121.97378 | W54: 5771.1317 | X54: 318494.68 | Y54: 1855453.8 | Z54: 21923.777 | AA54: 1808.0419 | AB54: 362275.56 | AC54: 29137.061 | AD54: 186165.48 | AE54: 48009.037 | AF54: 1545.8899 | AG54: 0 | AH54: 279.40299 | AI54: 89351.3 | AJ54: 716763.74 | AK54: 8275.5098
A55: 81-140 Years | B55: 1377.4534 | C55: 771577.68 | D55: 6407.6504 | E55: 162.01878 | F55: 27504.811 | G55: 3506.0011 | H55: 4515.083 | I55: 15730.186 | J55: 0 | K55: 0 | L55: 0 | M55: 40735.479 | N55: 91991.559 | O55: 804.71736 | P55: 779.7406 | Q55: 197616.02 | R55: 19724.655 | S55: 101202.56 | T55: 98991.909 | U55: 58.200373 | V55: 0 | W55: 0 | X55: 23519.492 | Y55: 441112.84 | Z55: 3630.7538 | AA55: 435.69406 | AB55: 122069.08 | AC55: 16618.529 | AD55: 64511.305 | AE55: 25682.787 | AF55: 159.37858 | AG55: 0 | AH55: 0 | AI55: 9432.1996 | AJ55: 238473.28 | AK55: 1972.1792
A56: 141+ | B56: 2068.2462 | C56: 1319657.5 | D56: 8605.4735 | E56: 191.29662 | F56: 19986.294 | G56: 5421.3362 | H56: 34059.548 | I56: 62532.957 | J56: 0 | K56: 98.183066 | L56: 0 | M56: 2875.0347 | N56: 124973.35 | O56: 725.33715 | P56: 1181.1955 | Q56: 107999.78 | R56: 41468.459 | S56: 313044.01 | T56: 318269.99 | U56: 0 | V56: 1483.8824 | W56: 0 | X56: 3619.3401 | Y56: 785885.45 | Z56: 4892.2332 | AA56: 695.75408 | AB56: 100111.35 | AC56: 31310.076 | AD56: 162708.43 | AE56: 112546.11 | AF56: 0 | AG56: 134.7508 | AH56: 0 | AI56: 1987.9909 | AJ56: 408798.7 | AK56: 2987.9032
A57: Good Total | B57: 18307.668 | C57: 5411537.7 | D57: 79475.329 | E57: 2901.5709 | F57: 310196.28 | G57: 22522.307 | H57: 106339.21 | I57: 113136.91 | J57: 10.910207 | K57: 2842.5242 | L57: 1222.093 | M57: 215381.93 | N57: 771652.17 | O57: 12959.116 | P57: 11717.158 | Q57: 1117376 | R57: 123382.56 | S57: 947935.05 | T57: 696394.66 | U57: 870.48331 | V57: 8036.4965 | W57: 6246.2676 | X57: 352236.05 | Y57: 3252477.6 | Z57: 50153.599 | AA57: 3688.9391 | AB57: 591424.95 | AC57: 78217.201 | AD57: 421559.66 | AE57: 193035.23 | AF57: 1706.7859 | AG57: 195.12798 | AH57: 282.59501 | AI57: 100986.36 | AJ57: 1387407.9 | AK57: 16362.614
A58: Medium
A59: 0-40 Years | B59: 4.3031887 | C59: 39.307673 | D59: 4.4646373 | E59: 1.3103773 | F59: 0.18299546 | G59: 0 | H59: 0.13959184 | I59: 0.37953391 | J59: 0 | K59: 0.38653662 | L59: 0 | M59: 0 | N59: 1.0886578 | O59: 3.8723049 | P59: 1.7361158 | Q59: 4.582087 | R59: 0 | S59: 2.3545929 | T59: 8.4589743 | U59: 0 | V59: 8.042107 | W59: 0 | X59: 0 | Y59: 23.437761 | Z59: 0.59233236 | AA59: 1.2566956 | AB59: 4.3557071 | AC59: 0 | AD59: 0 | AE59: 5.9919248 | AF59: 0 | AG59: 4.4336222 | AH59: 0 | AI59: 0 | AJ59: 14.781254 | AK59: 0
A60: 41-80 Years | B60: 0 | C60: 0 | D60: 0 | E60: 0 | F60: 0 | G60: 0 | H60: 0 | I60: 0 | J60: 0 | K60: 0 | L60: 0 | M60: 0 | N60: 0 | O60: 0 | P60: 0 | Q60: 0 | R60: 0 | S60: 0 | T60: 0 | U60: 0 | V60: 0 | W60: 0 | X60: 0 | Y60: 0 | Z60: 0 | AA60: 0 | AB60: 0 | AC60: 0 | AD60: 0 | AE60: 0 | AF60: 0 | AG60: 0 | AH60: 0 | AI60: 0 | AJ60: 0 | AK60: 0
A61: 81-140 Years | B61: 0.16194262 | C61: 74.818139 | D61: 0.50396544 | E61: 0.16194262 | F61: 0 | G61: 0 | H61: 13.709415 | I61: 61.108725 | J61: 0 | K61: 0 | L61: 0 | M61: 0 | N61: 74.818139 | O61: 0.50396544 | P61: 0 | Q61: 0 | R61: 0 | S61: 0 | T61: 0 | U61: 0 | V61: 0 | W61: 0 | X61: 0 | Y61: 0 | Z61: 0 | AA61: 0 | AB61: 0 | AC61: 0 | AD61: 0 | AE61: 0 | AF61: 0 | AG61: 0 | AH61: 0 | AI61: 0 | AJ61: 0 | AK61: 0
A62: 141+ | B62: 3.8737144 | C62: 2255.9175 | D62: 1.1227367 | E62: 0.36077657 | F62: 0 | G62: 0 | H62: 34.020997 | I62: 207.59662 | J62: 0 | K62: 0 | L62: 0 | M62: 0 | N62: 241.61762 | O62: 1.1227367 | P62: 3.0448106 | Q62: 0 | R62: 88.53881 | S62: 578.2212 | T62: 1107.8834 | U62: 0 | V62: 0 | W62: 0 | X62: 0 | Y62: 1774.6434 | Z62: 0 | AA62: 0.46812731 | AB62: 0 | AC62: 10.738123 | AD62: 96.215698 | AE62: 132.70269 | AF62: 0 | AG62: 0 | AH62: 0 | AI62: 0 | AJ62: 239.65651 | AK62: 0
A63: Medium Total | B63: 8.3388457 | C63: 2370.0433 | D63: 6.0913394 | E63: 1.8330964 | F63: 0.18299546 | G63: 0 | H63: 47.870004 | I63: 269.08488 | J63: 0 | K63: 0.38653662 | L63: 0 | M63: 0 | N63: 317.52442 | O63: 5.499007 | P63: 4.7809263 | Q63: 4.582087 | R63: 88.53881 | S63: 580.57579 | T63: 1116.3423 | U63: 0 | V63: 8.042107 | W63: 0 | X63: 0 | Y63: 1798.0811 | Z63: 0.59233236 | AA63: 1.7248229 | AB63: 4.3557071 | AC63: 10.738123 | AD63: 96.215698 | AE63: 138.69462 | AF63: 0 | AG63: 4.4336222 | AH63: 0 | AI63: 0 | AJ63: 254.43777 | AK63: 0
A64: Ts'elxweyeqw Forestry Total | B64: 18316.007 | C64: 5413907.7 | D64: 79481.421 | E64: 2903.404 | F64: 310196.47 | G64: 22522.307 | H64: 106387.08 | I64: 113405.99 | J64: 10.910207 | K64: 2842.9108 | L64: 1222.093 | M64: 215381.93 | N64: 771969.69 | O64: 12964.615 | P64: 11721.939 | Q64: 1117380.6 | R64: 123471.09 | S64: 948515.63 | T64: 697511 | U64: 870.48331 | V64: 8044.5386 | W64: 6246.2676 | X64: 352236.05 | Y64: 3254275.7 | Z64: 50154.191 | AA64: 3690.6639 | AB64: 591429.31 | AC64: 78227.939 | AD64: 421655.88 | AE64: 193173.92 | AF64: 1706.7859 | AG64: 199.5616 | AH64: 282.59501 | AI64: 100986.36 | AJ64: 1387662.3 | AK64: 16362.614
C65: =C22+C36+C50+C64 -> 12200515 | D65: Check
A67: Total Species % from all FNWL with BCTS Reservation | F67: FIR | G67: CEDAR | H67: HEMLOCK | I67: BALSAM | J67: PINE | K67: SPRUCE | L67: CYPRESS | M67: DECIDUOUS | Q67: FIR | R67: CEDAR | S67: HEMLOCK | T67: BALSAM | U67: PINE | V67: SPRUCE | W67: CYPRESS | X67: DECIDUOUS | AB67: FIR | AC67: CEDAR | AD67: HEMLOCK | AE67: BALSAM | AF67: PINE | AG67: SPRUCE | AH67: CYPRESS | AI67: DECIDUOUS
A68: Species | B68: Volume | C68: % | F68: =F22+F36+F50+F64 -> 867186.46 | G68: =G22+G36+G50+G64 -> 251686.8 | H68: =H22+H36+H50+H64 -> 923704.61 | I68: =I22+I36+I50+I64 -> 395845.37 | J68: =J22+J36+J50+J64 -> 8351.0591 | K68: =K22+K36+K50+K64 -> 6431.3533 | L68: =L22+L36+L50+L64 -> 64106.2 | M68: =M22+M36+M50+M64 -> 403879.12 | Q68: =Q22+Q36+Q50+Q64 -> 2272291 | R68: =R22+R36+R50+R64 -> 440537.9 | S68: =S22+S36+S50+S64 -> 2177075.8 | T68: =T22+T36+T50+T64 -> 1236633.4 | U68: =U22+U36+U50+U64 -> 26433.586 | V68: =V22+V36+V50+V64 -> 15169.809 | W68: =W22+W36+W50+W64 -> 47211.231 | X68: =X22+X36+X50+X64 -> 672058.97 | AB68: =AB22+AB36+AB50+AB64 -> 871893.96 | AC68: =AC22+AC36+AC50+AC64 -> 215315.82 | AD68: =AD22+AD36+AD50+AD64 -> 840064.51 | AE68: =AE22+AE36+AE50+AE64 -> 304392.57 | AF68: =AF22+AF36+AF50+AF64 -> 6508.3663 | AG68: =AG22+AG36+AG50+AG64 -> 2138.8364 | AH68: =AH22+AH36+AH50+AH64 -> 13025.455 | AI68: =AI22+AI36+AI50+AI64 -> 138573.11
A69: =F67 -> FIR | B69: =F68+Q68+AB68 -> 4011371.4 | C69: =B69/$B$77 -> 0.32878705
A70: =G67 -> CEDAR | B70: =G68+R68+AC68 -> 907540.51 | C70: =B70/$B$77 -> 0.074385425
A71: =H67 -> HEMLOCK | B71: =H68+S68+AD68 -> 3940844.9 | C71: =B71/$B$77 -> 0.32300644
A72: =I67 -> BALSAM | B72: =I68+T68+AE68 -> 1936871.3 | C72: =B72/$B$77 -> 0.15875324
A73: =J67 -> PINE | B73: =J68+U68+AF68 -> 41293.011 | C73: =B73/$B$77 -> 0.0033845301
A74: =K67 -> SPRUCE | B74: =K68+V68+AG68 -> 23739.999 | C74: =B74/$B$77 -> 0.0019458194
A75: =L67 -> CYPRESS | B75: =L68+W68+AH68 -> 124342.89 | C75: =B75/$B$77 -> 0.010191609
A76: =M67 -> DECIDUOUS | B76: =M68+X68+AI68 -> 1214511.2 | C76: =B76/$B$77 -> 0.099545895
A77: Total Species % from all FNWL with BCTS Reservation | B77: =SUM(B69:B76) -> 12200515 | C77: =SUM(C69:C76) -> 1
